BEGIN:VCALENDAR
VERSION:2.0
PRODID:-//Canine Community Outreach of North Carolina - ECPv6.15.13//NONSGML v1.0//EN
CALSCALE:GREGORIAN
METHOD:PUBLISH
X-ORIGINAL-URL:https://helpncdogs.org
X-WR-CALDESC:Events for Canine Community Outreach of North Carolina
REFRESH-INTERVAL;VALUE=DURATION:PT1H
X-Robots-Tag:noindex
X-PUBLISHED-TTL:PT1H
BEGIN:VTIMEZONE
TZID:UTC
BEGIN:STANDARD
TZOFFSETFROM:+0000
TZOFFSETTO:+0000
TZNAME:UTC
DTSTART:20180101T000000
END:STANDARD
END:VTIMEZONE
BEGIN:VEVENT
DTSTART;TZID=UTC:20251206T143000
DTEND;TZID=UTC:20251206T173000
DTSTAMP:20260423T180424
CREATED:20251115T181418Z
LAST-MODIFIED:20251115T181418Z
UID:9807-1765031400-1765042200@helpncdogs.org
SUMMARY:Pho-Ho-Ho-Tos with Santa 2025
DESCRIPTION:Pho-Ho-Ho-Tos with Santa \n\nOur annual Pho-ho-ho-tos with Santa is a great opportunity to help dogs while getting a great photo of your pupper and Santa! \nYour minimum donation of $25 goes toward Canine Community Outreach’s ongoing campaign to spay and neuter dogs in need. You’ll get digital versions of your dog’s photo\, thanks to this year’s amazing photographer – Ashley of Assorted Poppies Photo! \nHave multiple dogs? We recommend a minimum donation of $25 for the first dog with $10 for each additional dog. \n\n\n2025 Pho-Ho-Ho-Tos with Santa \nWhen: Saturday\, December 6\, 2025 from 2:30-5:30 pm \n\n2:30 – 3:30 pm: Photos without Santa\n3:30 – 5:30 pm: Photos with Santa\n\n\nWhere: Rosecomb Beer Garden\, Parkside Town Commons\,1143 Parkside Main St.\, Cary\, NC 27519 \n\n\nMeet adoptable dogs fostered by Freedom Ride Rescue!\nEnter our raffle for great prizes!\nEnjoy drinks from Rosecomb Beer Garden!\nPlenty of food options to choose from!\n\nHow do you get in on the fun?\nPhoto sessions will be first come\, first serve. Sign up before the event to save your spot as spaces are limited. Check-in when you arrive to be added to the queue. \n\nThe last photo sign-ups will be taken at 5:00. \n*Please note: photos are for doggos only – no humans\, though there will be lots to do for people at the event!
URL:https://helpncdogs.org/event/pho-ho-ho-tos-with-santa-2025/
LOCATION:Rosecomb Beer Garden\, 1143 Parkside Main St.\, Cary\, NC\, 27519\, United States
CATEGORIES:Fundraiser,Holiday
ATTACH;FMTTYPE=image/png:https://helpncdogs.org/wp-content/uploads/2025/11/Santa-Pho-Ho-Ho-tos-2025-Website.png
END:VEVENT
BEGIN:VEVENT
DTSTART;TZID=UTC:20241207T140000
DTEND;TZID=UTC:20241207T170000
DTSTAMP:20260423T180424
CREATED:20241110T221636Z
LAST-MODIFIED:20241110T221636Z
UID:9753-1733580000-1733590800@helpncdogs.org
SUMMARY:Pho-Ho-Ho-Tos with Santa 2024
DESCRIPTION:Our annual Pho-ho-ho-tos with Santa is a great opportunity to help dogs while getting a great photo of your pupper and Santa! \nYour minimum donation of $25 goes toward Canine Community Outreach’s ongoing campaign to spay\, neuter and vaccinate dogs in need. You’ll get high-resolution digital versions of your dog’s photo\, perfect for printing as holiday cards or creating special gifts\, thanks to professional pet photographer extraordinaire Joanne of Five Freedoms Photography! \nHave multiple dogs? We recommend a minimum donation of $25 for the first dog with $10 for each additional dog. \n\n\n2024 Pho-Ho-Ho-Tos with Santa \nWhen: Saturday\, December 7\, 2024 from 2:00-5:00 pm \n\n2:00 – 3:00 pm: Photos without Santa\n3:00 – 5:00 pm: Photos with Santa\n\n\nWhere: Rosecomb Beer Garden\, Parkside Town Commons\,1143 Parkside Main St.\, Cary\, NC 27519 \n\n\nMeet adoptable dogs fostered by Freedom Ride Rescue!\nEnter our raffle for great prizes!\nEnjoy drinks from Rosecomb Beer Garden!\n\n\nLearn more and register!
URL:https://helpncdogs.org/event/pho-ho-ho-tos-with-santa-2024/
LOCATION:Rosecomb Beer Garden\, 1143 Parkside Main St.\, Cary\, NC\, 27519\, United States
CATEGORIES:Fundraiser,Holiday
ATTACH;FMTTYPE=image/png:https://helpncdogs.org/wp-content/uploads/2024/11/FB-Santa-Pho-Ho-Ho-tos-2024-2.png
END:VEVENT
BEGIN:VEVENT
DTSTART;TZID=UTC:20191123T140000
DTEND;TZID=UTC:20191123T170000
DTSTAMP:20260423T180424
CREATED:20191019T003428Z
LAST-MODIFIED:20191027T201146Z
UID:179-1574517600-1574528400@helpncdogs.org
SUMMARY:PHO-HO-HO-TOs with Santa
DESCRIPTION:Bring your dog(s) for a photo session with Santa! Your donation of $15 goes toward Canine Community Outreach’s ongoing campaign to spay\, neuter and vaccinate dogs in need. Proceeds will also support Freedom Ride Rescue’s efforts to find homes for rescue dogs. You’ll get high-resolution digital versions of your picture\, perfect for printing as holiday cards or creating special gifts! \n\n\n \n\n\n\nMeet adoptable dogs fostered by Freedom Ride Rescue!\nEnter our raffle for great prizes like a gift certificate for Urban Axes and a handmade wreath!\nEnjoy craft beer at Jordan Lake Brewing Company!\nGet wholesome\, made-in-the-Triangle dog treats from Ruff Stuff Treats!\n\nClick here for more information on the event\, to prepay for your session and to buy raffle tickets! 
URL:https://helpncdogs.org/event/pho-ho-ho-tos-with-santa/
LOCATION:Jordan Lake Brewing Company\, 320 E Durham Road\, Cary\, NC\, 27513\, United States
CATEGORIES:Fundraiser,Holiday
ATTACH;FMTTYPE=image/png:https://helpncdogs.org/wp-content/uploads/2019/10/Santa-Photos-1080x640.png
END:VEVENT
END:VCALENDAR